BEGIN:VCALENDAR
VERSION:2.0
PRODID:-//Slow Food Solano - ECPv6.15.20//NONSGML v1.0//EN
CALSCALE:GREGORIAN
METHOD:PUBLISH
X-WR-CALNAME:Slow Food Solano
X-ORIGINAL-URL:https://slowfoodsolano.org
X-WR-CALDESC:Events for Slow Food Solano
REFRESH-INTERVAL;VALUE=DURATION:PT1H
X-Robots-Tag:noindex
X-PUBLISHED-TTL:PT1H
BEGIN:VTIMEZONE
TZID:America/Los_Angeles
BEGIN:DAYLIGHT
TZOFFSETFROM:-0800
TZOFFSETTO:-0700
TZNAME:PDT
DTSTART:20170312T100000
END:DAYLIGHT
BEGIN:STANDARD
TZOFFSETFROM:-0700
TZOFFSETTO:-0800
TZNAME:PST
DTSTART:20171105T090000
END:STANDARD
BEGIN:DAYLIGHT
TZOFFSETFROM:-0800
TZOFFSETTO:-0700
TZNAME:PDT
DTSTART:20180311T100000
END:DAYLIGHT
BEGIN:STANDARD
TZOFFSETFROM:-0700
TZOFFSETTO:-0800
TZNAME:PST
DTSTART:20181104T090000
END:STANDARD
BEGIN:DAYLIGHT
TZOFFSETFROM:-0800
TZOFFSETTO:-0700
TZNAME:PDT
DTSTART:20190310T100000
END:DAYLIGHT
BEGIN:STANDARD
TZOFFSETFROM:-0700
TZOFFSETTO:-0800
TZNAME:PST
DTSTART:20191103T090000
END:STANDARD
BEGIN:DAYLIGHT
TZOFFSETFROM:-0800
TZOFFSETTO:-0700
TZNAME:PDT
DTSTART:20200308T100000
END:DAYLIGHT
BEGIN:STANDARD
TZOFFSETFROM:-0700
TZOFFSETTO:-0800
TZNAME:PST
DTSTART:20201101T090000
END:STANDARD
END:VTIMEZONE
BEGIN:VEVENT
DTSTART;TZID=America/Los_Angeles:20190418T103000
DTEND;TZID=America/Los_Angeles:20190418T120000
DTSTAMP:20260423T161136
CREATED:20190325T111109Z
LAST-MODIFIED:20190325T111344Z
UID:679-1555583400-1555588800@slowfoodsolano.org
SUMMARY:Sourdough Bread Class - Easter Bread Prep
DESCRIPTION:Are you responsible for hosting Easter brunch? This is the perfect way to have your bread prepped and ready to pop in the oven in order to wow your family. Bring a medium sized bowl to bring your dough home to rise in! You’ll even get to take home starter to keep making bread for years to come.
URL:https://slowfoodsolano.org/event/sourdough-bread-class/
LOCATION:The Barn & Pantry\, 125 W. A Street\, Dixon\, CA\, 95620\, United States
ATTACH;FMTTYPE=image/jpeg:https://slowfoodsolano.org/wp-content/uploads/2019/03/sourdough-ss1088233700.jpg
ORGANIZER;CN="Heritage Pantry":MAILTO:heritagepantry@gmail.com
END:VEVENT
BEGIN:VEVENT
DTSTART;TZID=America/Los_Angeles:20190201T160000
DTEND;TZID=America/Los_Angeles:20190201T160000
DTSTAMP:20260423T161136
CREATED:20190122T001926Z
LAST-MODIFIED:20190122T002730Z
UID:637-1549036800-1549036800@slowfoodsolano.org
SUMMARY:Scone Making while Drinking Tea
DESCRIPTION:It’s a tea party cooking class! Have your choice of tea to enjoy at your table while you learn how to make basic scones with multiple glaze options.
URL:https://slowfoodsolano.org/event/637/
LOCATION:The Barn & Pantry\, 125 W. A Street\, Dixon\, CA\, 95620\, United States
ATTACH;FMTTYPE=image/jpeg:https://slowfoodsolano.org/wp-content/uploads/2019/01/sconesteashutterstock_670075990-small600.jpg
ORGANIZER;CN="Heritage Pantry":MAILTO:heritagepantry@gmail.com
END:VEVENT
BEGIN:VEVENT
DTSTART;TZID=America/Los_Angeles:20181219T100000
DTEND;TZID=America/Los_Angeles:20181219T120000
DTSTAMP:20260423T161136
CREATED:20181204T054732Z
LAST-MODIFIED:20181204T085541Z
UID:519-1545213600-1545220800@slowfoodsolano.org
SUMMARY:Adults Only Christmas Cooking Decorating Workshop
DESCRIPTION:  \nMake beautiful Christmas sugar cookies without the kids! BYOB and your creativity to decorate some shortbread- without the sticky mitts\, icky mixed colors\, and whining.  \nAdvance registration is required. If minimum registration is not met\, class will be canceled for a full refund. \nRegister at https://squareup.com/store/theheritagepantry/item/adults-only-christmas-cookie-decorating
URL:https://slowfoodsolano.org/event/adults-only-christmas-cooking-decorating-worshop/
LOCATION:Heritage Pantry\, 350 West A Street\, Dixon\, CA\, 95620\, United States
ATTACH;FMTTYPE=image/jpeg:https://slowfoodsolano.org/wp-content/uploads/2018/11/Christmas-cookie-decorating.jpeg
ORGANIZER;CN="Heritage Pantry":MAILTO:heritagepantry@gmail.com
END:VEVENT
END:VCALENDAR