BEGIN:VCALENDAR
VERSION:2.0
PRODID:-//Slow Food Solano - ECPv6.15.20//NONSGML v1.0//EN
CALSCALE:GREGORIAN
METHOD:PUBLISH
X-ORIGINAL-URL:https://slowfoodsolano.org
X-WR-CALDESC:Events for Slow Food Solano
REFRESH-INTERVAL;VALUE=DURATION:PT1H
X-Robots-Tag:noindex
X-PUBLISHED-TTL:PT1H
BEGIN:VTIMEZONE
TZID:America/Los_Angeles
BEGIN:DAYLIGHT
TZOFFSETFROM:-0800
TZOFFSETTO:-0700
TZNAME:PDT
DTSTART:20180311T100000
END:DAYLIGHT
BEGIN:STANDARD
TZOFFSETFROM:-0700
TZOFFSETTO:-0800
TZNAME:PST
DTSTART:20181104T090000
END:STANDARD
BEGIN:DAYLIGHT
TZOFFSETFROM:-0800
TZOFFSETTO:-0700
TZNAME:PDT
DTSTART:20190310T100000
END:DAYLIGHT
BEGIN:STANDARD
TZOFFSETFROM:-0700
TZOFFSETTO:-0800
TZNAME:PST
DTSTART:20191103T090000
END:STANDARD
BEGIN:DAYLIGHT
TZOFFSETFROM:-0800
TZOFFSETTO:-0700
TZNAME:PDT
DTSTART:20200308T100000
END:DAYLIGHT
BEGIN:STANDARD
TZOFFSETFROM:-0700
TZOFFSETTO:-0800
TZNAME:PST
DTSTART:20201101T090000
END:STANDARD
END:VTIMEZONE
BEGIN:VEVENT
DTSTART;TZID=America/Los_Angeles:20190112T010000
DTEND;TZID=America/Los_Angeles:20190112T080000
DTSTAMP:20260423T163654
CREATED:20181204T084906Z
LAST-MODIFIED:20181204T084906Z
UID:547-1547254800-1547280000@slowfoodsolano.org
SUMMARY:Regenerative Landscapes
DESCRIPTION:Join us at Soul Food Farm to hear Gabe Brown discuss methods and benefits for building regenerative landscapes\, including4:: \n\nBuilding soil health\nThe benefits of multi-species cover crops\nSequestering carbon\nNo till cropping systems\n\nGabe Brown is one of the pioneers of the current soil health movement which focuses on the regeneration of our resources. You don’t want to miss this rare opportunity to hear him speak on these topics and discuss how you can implement them into your own farming practices. Learn more and register at https://www.soulfoodfarm.com/workshopsandevents/gabebrown
URL:https://slowfoodsolano.org/event/regenerative-landscapes/
LOCATION:Soul Food Farm\, Pleasants Valley Road\, Vacaville\, CA\, 95688\, United States
ATTACH;FMTTYPE=image/png:https://slowfoodsolano.org/wp-content/uploads/2018/11/Gabe-Brown-Soul-Food.png
ORGANIZER;CN="Soul Food Farm":MAILTO:alexis@soulfoodfarm.com
END:VEVENT
END:VCALENDAR