BEGIN:VCALENDAR
VERSION:2.0
PRODID:-//Slow Food Solano - ECPv6.15.20//NONSGML v1.0//EN
CALSCALE:GREGORIAN
METHOD:PUBLISH
X-WR-CALNAME:Slow Food Solano
X-ORIGINAL-URL:https://slowfoodsolano.org
X-WR-CALDESC:Events for Slow Food Solano
REFRESH-INTERVAL;VALUE=DURATION:PT1H
X-Robots-Tag:noindex
X-PUBLISHED-TTL:PT1H
BEGIN:VTIMEZONE
TZID:America/Los_Angeles
BEGIN:DAYLIGHT
TZOFFSETFROM:-0800
TZOFFSETTO:-0700
TZNAME:PDT
DTSTART:20170312T100000
END:DAYLIGHT
BEGIN:STANDARD
TZOFFSETFROM:-0700
TZOFFSETTO:-0800
TZNAME:PST
DTSTART:20171105T090000
END:STANDARD
BEGIN:DAYLIGHT
TZOFFSETFROM:-0800
TZOFFSETTO:-0700
TZNAME:PDT
DTSTART:20180311T100000
END:DAYLIGHT
BEGIN:STANDARD
TZOFFSETFROM:-0700
TZOFFSETTO:-0800
TZNAME:PST
DTSTART:20181104T090000
END:STANDARD
BEGIN:DAYLIGHT
TZOFFSETFROM:-0800
TZOFFSETTO:-0700
TZNAME:PDT
DTSTART:20190310T100000
END:DAYLIGHT
BEGIN:STANDARD
TZOFFSETFROM:-0700
TZOFFSETTO:-0800
TZNAME:PST
DTSTART:20191103T090000
END:STANDARD
BEGIN:DAYLIGHT
TZOFFSETFROM:-0800
TZOFFSETTO:-0700
TZNAME:PDT
DTSTART:20200308T100000
END:DAYLIGHT
BEGIN:STANDARD
TZOFFSETFROM:-0700
TZOFFSETTO:-0800
TZNAME:PST
DTSTART:20201101T090000
END:STANDARD
BEGIN:DAYLIGHT
TZOFFSETFROM:-0800
TZOFFSETTO:-0700
TZNAME:PDT
DTSTART:20210314T100000
END:DAYLIGHT
BEGIN:STANDARD
TZOFFSETFROM:-0700
TZOFFSETTO:-0800
TZNAME:PST
DTSTART:20211107T090000
END:STANDARD
END:VTIMEZONE
BEGIN:VEVENT
DTSTART;TZID=America/Los_Angeles:20200118T140000
DTEND;TZID=America/Los_Angeles:20200118T150000
DTSTAMP:20260423T133701
CREATED:20200103T030348Z
LAST-MODIFIED:20200103T030348Z
UID:823-1579356000-1579359600@slowfoodsolano.org
SUMMARY:Benicia: Sustainable Landscaping Resources Workshop
DESCRIPTION:Benicia homeowners interested in learning more about sustainable landscaping opportunities can attend this informative session to learn about programs through Sustainable Solano and other organizations. These programs can help homeowners learn new ways to make their yards waterwise\, edible and beautiful. Learn about what’s available in Benicia and meet other like-minded homeowners. Come with your questions!
URL:https://slowfoodsolano.org/event/benicia-sustainable-landscaping-resources-workshop/
LOCATION:Benicia Public Library\, 150 E. L Street\, Benicia\, CA
ATTACH;FMTTYPE=image/jpeg:https://slowfoodsolano.org/wp-content/uploads/2020/01/diggin-ss_588979808-800px.jpg
ORGANIZER;CN="Sustainable Solano":MAILTO:info@sustainablesolano.org
END:VEVENT
BEGIN:VEVENT
DTSTART;TZID=America/Los_Angeles:20191207T020000
DTEND;TZID=America/Los_Angeles:20191207T060000
DTSTAMP:20260423T133701
CREATED:20191127T033555Z
LAST-MODIFIED:20191127T033608Z
UID:786-1575684000-1575698400@slowfoodsolano.org
SUMMARY:Fairfield High School Garden Installation
DESCRIPTION:Join us for the installation of the Fairfield High School Garden. This garden will help Fairfield High School students learn about permaculture\, seasonal vegetables and farm-to-table approaches to cooking. \nCome dig a swale\, plant fruit trees and sheet mulch.
URL:https://slowfoodsolano.org/event/fairfield-high-school-garden-installation/
LOCATION:Fairfield High School\, 205 East Atlantic\, Fairfield\, CA\, 94533
ATTACH;FMTTYPE=image/jpeg:https://slowfoodsolano.org/wp-content/uploads/2019/11/diggin-ss_588979808-800px.jpg
ORGANIZER;CN="Sustainable Solano":MAILTO:info@sustainablesolano.org
END:VEVENT
BEGIN:VEVENT
DTSTART;TZID=America/Los_Angeles:20190921T070000
DTEND;TZID=America/Los_Angeles:20190921T080000
DTSTAMP:20260423T133701
CREATED:20190920T043053Z
LAST-MODIFIED:20190920T044157Z
UID:750-1569049200-1569052800@slowfoodsolano.org
SUMMARY:What's for Dinner Cooking Workshop: Sushi Session
DESCRIPTION:Join chef Lisa Núñez-Hancock for this class to learn basic sushi-making techniques and traditions with vegetarian and vegan improvisations. 
URL:https://slowfoodsolano.org/event/whats-for-dinner-cooking-workshop-sushi-session/
LOCATION:John F. Kennedy Library\, 505 Santa Clara St.\, Vallejo CA\, CA\, 94549\, United States
ATTACH;FMTTYPE=image/jpeg:https://slowfoodsolano.org/wp-content/uploads/2019/09/veggiesushi-ss_348356741-med.jpg
ORGANIZER;CN="Sustainable Solano":MAILTO:info@sustainablesolano.org
END:VEVENT
BEGIN:VEVENT
DTSTART;TZID=America/Los_Angeles:20181229T060000
DTEND;TZID=America/Los_Angeles:20181229T070000
DTSTAMP:20260423T133701
CREATED:20181204T084305Z
LAST-MODIFIED:20181204T084305Z
UID:542-1546063200-1546066800@slowfoodsolano.org
SUMMARY:"Walk the Talk" Permaculture Talk
DESCRIPTION:Sustainable Solano offers practical ways of applying permaculture principles in your garden and community. These “Walk the Talk” events will take place on the final Saturday of each month. For more information\, or to register\, send an email to info@sustainablesolano.org or visit www.sustainablesolano.org.
URL:https://slowfoodsolano.org/event/walk-the-talk-permaculture-talk/
LOCATION:Mission Solano\, Beck Avenue\, Fairfield\, CA\, 94533\, United States
ATTACH;FMTTYPE=image/jpeg:https://slowfoodsolano.org/wp-content/uploads/2018/11/produce-11.jpg
ORGANIZER;CN="Sustainable Solano":MAILTO:info@sustainablesolano.org
END:VEVENT
END:VCALENDAR