BEGIN:VCALENDAR
VERSION:2.0
PRODID:-//Slow Food Solano - ECPv6.15.20//NONSGML v1.0//EN
CALSCALE:GREGORIAN
METHOD:PUBLISH
X-ORIGINAL-URL:https://slowfoodsolano.org
X-WR-CALDESC:Events for Slow Food Solano
REFRESH-INTERVAL;VALUE=DURATION:PT1H
X-Robots-Tag:noindex
X-PUBLISHED-TTL:PT1H
BEGIN:VTIMEZONE
TZID:America/Los_Angeles
BEGIN:DAYLIGHT
TZOFFSETFROM:-0800
TZOFFSETTO:-0700
TZNAME:PDT
DTSTART:19690427T100000
END:DAYLIGHT
BEGIN:STANDARD
TZOFFSETFROM:-0700
TZOFFSETTO:-0800
TZNAME:PST
DTSTART:19691026T090000
END:STANDARD
BEGIN:DAYLIGHT
TZOFFSETFROM:-0800
TZOFFSETTO:-0700
TZNAME:PDT
DTSTART:19700426T100000
END:DAYLIGHT
BEGIN:STANDARD
TZOFFSETFROM:-0700
TZOFFSETTO:-0800
TZNAME:PST
DTSTART:19701025T090000
END:STANDARD
BEGIN:DAYLIGHT
TZOFFSETFROM:-0800
TZOFFSETTO:-0700
TZNAME:PDT
DTSTART:19710425T100000
END:DAYLIGHT
BEGIN:STANDARD
TZOFFSETFROM:-0700
TZOFFSETTO:-0800
TZNAME:PST
DTSTART:19711031T090000
END:STANDARD
BEGIN:DAYLIGHT
TZOFFSETFROM:-0800
TZOFFSETTO:-0700
TZNAME:PDT
DTSTART:19720430T100000
END:DAYLIGHT
BEGIN:STANDARD
TZOFFSETFROM:-0700
TZOFFSETTO:-0800
TZNAME:PST
DTSTART:19721029T090000
END:STANDARD
BEGIN:DAYLIGHT
TZOFFSETFROM:-0800
TZOFFSETTO:-0700
TZNAME:PDT
DTSTART:19730429T100000
END:DAYLIGHT
BEGIN:STANDARD
TZOFFSETFROM:-0700
TZOFFSETTO:-0800
TZNAME:PST
DTSTART:19731028T090000
END:STANDARD
BEGIN:DAYLIGHT
TZOFFSETFROM:-0800
TZOFFSETTO:-0700
TZNAME:PDT
DTSTART:19740106T100000
END:DAYLIGHT
BEGIN:STANDARD
TZOFFSETFROM:-0700
TZOFFSETTO:-0800
TZNAME:PST
DTSTART:19741027T090000
END:STANDARD
BEGIN:DAYLIGHT
TZOFFSETFROM:-0800
TZOFFSETTO:-0700
TZNAME:PDT
DTSTART:19750223T100000
END:DAYLIGHT
BEGIN:STANDARD
TZOFFSETFROM:-0700
TZOFFSETTO:-0800
TZNAME:PST
DTSTART:19751026T090000
END:STANDARD
BEGIN:DAYLIGHT
TZOFFSETFROM:-0800
TZOFFSETTO:-0700
TZNAME:PDT
DTSTART:19760425T100000
END:DAYLIGHT
BEGIN:STANDARD
TZOFFSETFROM:-0700
TZOFFSETTO:-0800
TZNAME:PST
DTSTART:19761031T090000
END:STANDARD
BEGIN:DAYLIGHT
TZOFFSETFROM:-0800
TZOFFSETTO:-0700
TZNAME:PDT
DTSTART:19770424T100000
END:DAYLIGHT
BEGIN:STANDARD
TZOFFSETFROM:-0700
TZOFFSETTO:-0800
TZNAME:PST
DTSTART:19771030T090000
END:STANDARD
BEGIN:DAYLIGHT
TZOFFSETFROM:-0800
TZOFFSETTO:-0700
TZNAME:PDT
DTSTART:19780430T100000
END:DAYLIGHT
BEGIN:STANDARD
TZOFFSETFROM:-0700
TZOFFSETTO:-0800
TZNAME:PST
DTSTART:19781029T090000
END:STANDARD
BEGIN:DAYLIGHT
TZOFFSETFROM:-0800
TZOFFSETTO:-0700
TZNAME:PDT
DTSTART:19790429T100000
END:DAYLIGHT
BEGIN:STANDARD
TZOFFSETFROM:-0700
TZOFFSETTO:-0800
TZNAME:PST
DTSTART:19791028T090000
END:STANDARD
BEGIN:DAYLIGHT
TZOFFSETFROM:-0800
TZOFFSETTO:-0700
TZNAME:PDT
DTSTART:19800427T100000
END:DAYLIGHT
BEGIN:STANDARD
TZOFFSETFROM:-0700
TZOFFSETTO:-0800
TZNAME:PST
DTSTART:19801026T090000
END:STANDARD
BEGIN:DAYLIGHT
TZOFFSETFROM:-0800
TZOFFSETTO:-0700
TZNAME:PDT
DTSTART:19810426T100000
END:DAYLIGHT
BEGIN:STANDARD
TZOFFSETFROM:-0700
TZOFFSETTO:-0800
TZNAME:PST
DTSTART:19811025T090000
END:STANDARD
BEGIN:DAYLIGHT
TZOFFSETFROM:-0800
TZOFFSETTO:-0700
TZNAME:PDT
DTSTART:19820425T100000
END:DAYLIGHT
BEGIN:STANDARD
TZOFFSETFROM:-0700
TZOFFSETTO:-0800
TZNAME:PST
DTSTART:19821031T090000
END:STANDARD
BEGIN:DAYLIGHT
TZOFFSETFROM:-0800
TZOFFSETTO:-0700
TZNAME:PDT
DTSTART:19830424T100000
END:DAYLIGHT
BEGIN:STANDARD
TZOFFSETFROM:-0700
TZOFFSETTO:-0800
TZNAME:PST
DTSTART:19831030T090000
END:STANDARD
BEGIN:DAYLIGHT
TZOFFSETFROM:-0800
TZOFFSETTO:-0700
TZNAME:PDT
DTSTART:19840429T100000
END:DAYLIGHT
BEGIN:STANDARD
TZOFFSETFROM:-0700
TZOFFSETTO:-0800
TZNAME:PST
DTSTART:19841028T090000
END:STANDARD
BEGIN:DAYLIGHT
TZOFFSETFROM:-0800
TZOFFSETTO:-0700
TZNAME:PDT
DTSTART:19850428T100000
END:DAYLIGHT
BEGIN:STANDARD
TZOFFSETFROM:-0700
TZOFFSETTO:-0800
TZNAME:PST
DTSTART:19851027T090000
END:STANDARD
BEGIN:DAYLIGHT
TZOFFSETFROM:-0800
TZOFFSETTO:-0700
TZNAME:PDT
DTSTART:19860427T100000
END:DAYLIGHT
BEGIN:STANDARD
TZOFFSETFROM:-0700
TZOFFSETTO:-0800
TZNAME:PST
DTSTART:19861026T090000
END:STANDARD
BEGIN:DAYLIGHT
TZOFFSETFROM:-0800
TZOFFSETTO:-0700
TZNAME:PDT
DTSTART:19870405T100000
END:DAYLIGHT
BEGIN:STANDARD
TZOFFSETFROM:-0700
TZOFFSETTO:-0800
TZNAME:PST
DTSTART:19871025T090000
END:STANDARD
BEGIN:DAYLIGHT
TZOFFSETFROM:-0800
TZOFFSETTO:-0700
TZNAME:PDT
DTSTART:19880403T100000
END:DAYLIGHT
BEGIN:STANDARD
TZOFFSETFROM:-0700
TZOFFSETTO:-0800
TZNAME:PST
DTSTART:19881030T090000
END:STANDARD
BEGIN:DAYLIGHT
TZOFFSETFROM:-0800
TZOFFSETTO:-0700
TZNAME:PDT
DTSTART:19890402T100000
END:DAYLIGHT
BEGIN:STANDARD
TZOFFSETFROM:-0700
TZOFFSETTO:-0800
TZNAME:PST
DTSTART:19891029T090000
END:STANDARD
BEGIN:DAYLIGHT
TZOFFSETFROM:-0800
TZOFFSETTO:-0700
TZNAME:PDT
DTSTART:19900401T100000
END:DAYLIGHT
BEGIN:STANDARD
TZOFFSETFROM:-0700
TZOFFSETTO:-0800
TZNAME:PST
DTSTART:19901028T090000
END:STANDARD
BEGIN:DAYLIGHT
TZOFFSETFROM:-0800
TZOFFSETTO:-0700
TZNAME:PDT
DTSTART:19910407T100000
END:DAYLIGHT
BEGIN:STANDARD
TZOFFSETFROM:-0700
TZOFFSETTO:-0800
TZNAME:PST
DTSTART:19911027T090000
END:STANDARD
BEGIN:DAYLIGHT
TZOFFSETFROM:-0800
TZOFFSETTO:-0700
TZNAME:PDT
DTSTART:19920405T100000
END:DAYLIGHT
BEGIN:STANDARD
TZOFFSETFROM:-0700
TZOFFSETTO:-0800
TZNAME:PST
DTSTART:19921025T090000
END:STANDARD
BEGIN:DAYLIGHT
TZOFFSETFROM:-0800
TZOFFSETTO:-0700
TZNAME:PDT
DTSTART:19930404T100000
END:DAYLIGHT
BEGIN:STANDARD
TZOFFSETFROM:-0700
TZOFFSETTO:-0800
TZNAME:PST
DTSTART:19931031T090000
END:STANDARD
BEGIN:DAYLIGHT
TZOFFSETFROM:-0800
TZOFFSETTO:-0700
TZNAME:PDT
DTSTART:19940403T100000
END:DAYLIGHT
BEGIN:STANDARD
TZOFFSETFROM:-0700
TZOFFSETTO:-0800
TZNAME:PST
DTSTART:19941030T090000
END:STANDARD
BEGIN:DAYLIGHT
TZOFFSETFROM:-0800
TZOFFSETTO:-0700
TZNAME:PDT
DTSTART:19950402T100000
END:DAYLIGHT
BEGIN:STANDARD
TZOFFSETFROM:-0700
TZOFFSETTO:-0800
TZNAME:PST
DTSTART:19951029T090000
END:STANDARD
BEGIN:DAYLIGHT
TZOFFSETFROM:-0800
TZOFFSETTO:-0700
TZNAME:PDT
DTSTART:19960407T100000
END:DAYLIGHT
BEGIN:STANDARD
TZOFFSETFROM:-0700
TZOFFSETTO:-0800
TZNAME:PST
DTSTART:19961027T090000
END:STANDARD
BEGIN:DAYLIGHT
TZOFFSETFROM:-0800
TZOFFSETTO:-0700
TZNAME:PDT
DTSTART:19970406T100000
END:DAYLIGHT
BEGIN:STANDARD
TZOFFSETFROM:-0700
TZOFFSETTO:-0800
TZNAME:PST
DTSTART:19971026T090000
END:STANDARD
BEGIN:DAYLIGHT
TZOFFSETFROM:-0800
TZOFFSETTO:-0700
TZNAME:PDT
DTSTART:19980405T100000
END:DAYLIGHT
BEGIN:STANDARD
TZOFFSETFROM:-0700
TZOFFSETTO:-0800
TZNAME:PST
DTSTART:19981025T090000
END:STANDARD
BEGIN:DAYLIGHT
TZOFFSETFROM:-0800
TZOFFSETTO:-0700
TZNAME:PDT
DTSTART:19990404T100000
END:DAYLIGHT
BEGIN:STANDARD
TZOFFSETFROM:-0700
TZOFFSETTO:-0800
TZNAME:PST
DTSTART:19991031T090000
END:STANDARD
BEGIN:DAYLIGHT
TZOFFSETFROM:-0800
TZOFFSETTO:-0700
TZNAME:PDT
DTSTART:20000402T100000
END:DAYLIGHT
BEGIN:STANDARD
TZOFFSETFROM:-0700
TZOFFSETTO:-0800
TZNAME:PST
DTSTART:20001029T090000
END:STANDARD
BEGIN:DAYLIGHT
TZOFFSETFROM:-0800
TZOFFSETTO:-0700
TZNAME:PDT
DTSTART:20010401T100000
END:DAYLIGHT
BEGIN:STANDARD
TZOFFSETFROM:-0700
TZOFFSETTO:-0800
TZNAME:PST
DTSTART:20011028T090000
END:STANDARD
BEGIN:DAYLIGHT
TZOFFSETFROM:-0800
TZOFFSETTO:-0700
TZNAME:PDT
DTSTART:20020407T100000
END:DAYLIGHT
BEGIN:STANDARD
TZOFFSETFROM:-0700
TZOFFSETTO:-0800
TZNAME:PST
DTSTART:20021027T090000
END:STANDARD
BEGIN:DAYLIGHT
TZOFFSETFROM:-0800
TZOFFSETTO:-0700
TZNAME:PDT
DTSTART:20030406T100000
END:DAYLIGHT
BEGIN:STANDARD
TZOFFSETFROM:-0700
TZOFFSETTO:-0800
TZNAME:PST
DTSTART:20031026T090000
END:STANDARD
BEGIN:DAYLIGHT
TZOFFSETFROM:-0800
TZOFFSETTO:-0700
TZNAME:PDT
DTSTART:20040404T100000
END:DAYLIGHT
BEGIN:STANDARD
TZOFFSETFROM:-0700
TZOFFSETTO:-0800
TZNAME:PST
DTSTART:20041031T090000
END:STANDARD
BEGIN:DAYLIGHT
TZOFFSETFROM:-0800
TZOFFSETTO:-0700
TZNAME:PDT
DTSTART:20050403T100000
END:DAYLIGHT
BEGIN:STANDARD
TZOFFSETFROM:-0700
TZOFFSETTO:-0800
TZNAME:PST
DTSTART:20051030T090000
END:STANDARD
BEGIN:DAYLIGHT
TZOFFSETFROM:-0800
TZOFFSETTO:-0700
TZNAME:PDT
DTSTART:20060402T100000
END:DAYLIGHT
BEGIN:STANDARD
TZOFFSETFROM:-0700
TZOFFSETTO:-0800
TZNAME:PST
DTSTART:20061029T090000
END:STANDARD
BEGIN:DAYLIGHT
TZOFFSETFROM:-0800
TZOFFSETTO:-0700
TZNAME:PDT
DTSTART:20070311T100000
END:DAYLIGHT
BEGIN:STANDARD
TZOFFSETFROM:-0700
TZOFFSETTO:-0800
TZNAME:PST
DTSTART:20071104T090000
END:STANDARD
BEGIN:DAYLIGHT
TZOFFSETFROM:-0800
TZOFFSETTO:-0700
TZNAME:PDT
DTSTART:20080309T100000
END:DAYLIGHT
BEGIN:STANDARD
TZOFFSETFROM:-0700
TZOFFSETTO:-0800
TZNAME:PST
DTSTART:20081102T090000
END:STANDARD
BEGIN:DAYLIGHT
TZOFFSETFROM:-0800
TZOFFSETTO:-0700
TZNAME:PDT
DTSTART:20090308T100000
END:DAYLIGHT
BEGIN:STANDARD
TZOFFSETFROM:-0700
TZOFFSETTO:-0800
TZNAME:PST
DTSTART:20091101T090000
END:STANDARD
BEGIN:DAYLIGHT
TZOFFSETFROM:-0800
TZOFFSETTO:-0700
TZNAME:PDT
DTSTART:20100314T100000
END:DAYLIGHT
BEGIN:STANDARD
TZOFFSETFROM:-0700
TZOFFSETTO:-0800
TZNAME:PST
DTSTART:20101107T090000
END:STANDARD
BEGIN:DAYLIGHT
TZOFFSETFROM:-0800
TZOFFSETTO:-0700
TZNAME:PDT
DTSTART:20110313T100000
END:DAYLIGHT
BEGIN:STANDARD
TZOFFSETFROM:-0700
TZOFFSETTO:-0800
TZNAME:PST
DTSTART:20111106T090000
END:STANDARD
BEGIN:DAYLIGHT
TZOFFSETFROM:-0800
TZOFFSETTO:-0700
TZNAME:PDT
DTSTART:20120311T100000
END:DAYLIGHT
BEGIN:STANDARD
TZOFFSETFROM:-0700
TZOFFSETTO:-0800
TZNAME:PST
DTSTART:20121104T090000
END:STANDARD
BEGIN:DAYLIGHT
TZOFFSETFROM:-0800
TZOFFSETTO:-0700
TZNAME:PDT
DTSTART:20130310T100000
END:DAYLIGHT
BEGIN:STANDARD
TZOFFSETFROM:-0700
TZOFFSETTO:-0800
TZNAME:PST
DTSTART:20131103T090000
END:STANDARD
BEGIN:DAYLIGHT
TZOFFSETFROM:-0800
TZOFFSETTO:-0700
TZNAME:PDT
DTSTART:20140309T100000
END:DAYLIGHT
BEGIN:STANDARD
TZOFFSETFROM:-0700
TZOFFSETTO:-0800
TZNAME:PST
DTSTART:20141102T090000
END:STANDARD
BEGIN:DAYLIGHT
TZOFFSETFROM:-0800
TZOFFSETTO:-0700
TZNAME:PDT
DTSTART:20150308T100000
END:DAYLIGHT
BEGIN:STANDARD
TZOFFSETFROM:-0700
TZOFFSETTO:-0800
TZNAME:PST
DTSTART:20151101T090000
END:STANDARD
BEGIN:DAYLIGHT
TZOFFSETFROM:-0800
TZOFFSETTO:-0700
TZNAME:PDT
DTSTART:20160313T100000
END:DAYLIGHT
BEGIN:STANDARD
TZOFFSETFROM:-0700
TZOFFSETTO:-0800
TZNAME:PST
DTSTART:20161106T090000
END:STANDARD
BEGIN:DAYLIGHT
TZOFFSETFROM:-0800
TZOFFSETTO:-0700
TZNAME:PDT
DTSTART:20170312T100000
END:DAYLIGHT
BEGIN:STANDARD
TZOFFSETFROM:-0700
TZOFFSETTO:-0800
TZNAME:PST
DTSTART:20171105T090000
END:STANDARD
BEGIN:DAYLIGHT
TZOFFSETFROM:-0800
TZOFFSETTO:-0700
TZNAME:PDT
DTSTART:20180311T100000
END:DAYLIGHT
BEGIN:STANDARD
TZOFFSETFROM:-0700
TZOFFSETTO:-0800
TZNAME:PST
DTSTART:20181104T090000
END:STANDARD
BEGIN:DAYLIGHT
TZOFFSETFROM:-0800
TZOFFSETTO:-0700
TZNAME:PDT
DTSTART:20190310T100000
END:DAYLIGHT
BEGIN:STANDARD
TZOFFSETFROM:-0700
TZOFFSETTO:-0800
TZNAME:PST
DTSTART:20191103T090000
END:STANDARD
BEGIN:DAYLIGHT
TZOFFSETFROM:-0800
TZOFFSETTO:-0700
TZNAME:PDT
DTSTART:20200308T100000
END:DAYLIGHT
BEGIN:STANDARD
TZOFFSETFROM:-0700
TZOFFSETTO:-0800
TZNAME:PST
DTSTART:20201101T090000
END:STANDARD
BEGIN:DAYLIGHT
TZOFFSETFROM:-0800
TZOFFSETTO:-0700
TZNAME:PDT
DTSTART:20210314T100000
END:DAYLIGHT
BEGIN:STANDARD
TZOFFSETFROM:-0700
TZOFFSETTO:-0800
TZNAME:PST
DTSTART:20211107T090000
END:STANDARD
END:VTIMEZONE
BEGIN:VEVENT
DTSTART;TZID=America/Los_Angeles:20200404T100000
DTEND;TZID=America/Los_Angeles:20200404T170000
DTSTAMP:20260423T122620
CREATED:20200302T192609Z
LAST-MODIFIED:20200302T192709Z
UID:868-1585994400-1586019600@slowfoodsolano.org
SUMMARY:Spring Flea & Repurpose Fair
DESCRIPTION:Following the success of two holiday vendor fair shows\, The Barn & Pantry is introducing a second vendor event\, marked for The Pantry’s original anniversary of opening the market\, first weekend of April. This event will happen Saturday\, April 4th\, 2020. \nThe fair will offer Vendors of all sorts\, farmers who will be just beginning their spring season\, and flea market vendors. We will also offer spaces for garage sale style sellers. \nThis will be a RAIN OR SHINE event\, no refunds due to weather. Vendor space fees range from $50 to $100. There will be a limited number of indoor spaces for an additional fee\, all vendors must provide their own pop-up tents.\nMUST FILL OUT THIS FORM https://forms.gle/qMd7raomMJqQVaVE9
URL:https://slowfoodsolano.org/event/spring-flea-repurpose-fair/
ATTACH;FMTTYPE=image/jpeg:https://slowfoodsolano.org/wp-content/uploads/2020/03/barnpantry.jpeg
END:VEVENT
BEGIN:VEVENT
DTSTART;TZID=America/Los_Angeles:20200314T100000
DTEND;TZID=America/Los_Angeles:20200314T120000
DTSTAMP:20260423T122620
CREATED:20200302T191653Z
LAST-MODIFIED:20200302T191653Z
UID:861-1584180000-1584187200@slowfoodsolano.org
SUMMARY:Barn & Pantry Cooking with Herbs Series
DESCRIPTION:Join Anna\, herbalist from East Bay Herbals\, for an information packed series on incorporating more herbs into your diet. Join us for one or save on all three classes! \nWeek 1 March 14 10am-Noon: Herbal Teas + Bouquets\nActivity – fresh herbal bouquet garni \nWeek 2 April 11 10am-Noon: Herbal Vinegars + Oils\nActivity – herbal infused vinegar + oil \nWeek 3 May 23 10am-Noon: Herbal Syrups\, Gummies\, and Elixirs\nActivity – herbal syrup or cordial + herbal candy
URL:https://slowfoodsolano.org/event/barn-pantry-cooking-with-herbs-series/2020-03-14/
LOCATION:The Barn & Pantry\, 125 W. A Street\, Dixon\, CA\, 95620\, United States
ATTACH;FMTTYPE=image/jpeg:https://slowfoodsolano.org/wp-content/uploads/2020/03/cooking-with-herbs.jpeg
END:VEVENT
BEGIN:VEVENT
DTSTART;TZID=America/Los_Angeles:20200214T180000
DTEND;TZID=America/Los_Angeles:20200214T210000
DTSTAMP:20260423T122620
CREATED:20200130T011338Z
LAST-MODIFIED:20200130T011338Z
UID:857-1581703200-1581714000@slowfoodsolano.org
SUMMARY:Valentine's Day Dinner & Concert with Food + Familia
DESCRIPTION:Join us for our first exclusive farm to table Valentine’s Day dinner with Matt Andrews of Food +Familia. Choose your appetizer\, entree and dessert and enjoy a fabulous evening complete with music by Misner & Smith. Very limited tickets available\, will sell out. Water\, Tea and Brewed coffee included\, specialty drinks including cocktails\, beer and wine will be available for purchase. \n$90 per person Valentine’s Day Menu 2020 \nAmuse Bouche\nOyster Rockefeller \nChoice of Appetizer\n-Lobster Bisque w/ house oyster crackers\, chive\n-Baked Brie w/ cherry cranberry compote\n-Grilled Lamb Chops w/ mint chimichurri \nChoice of Entree\n-Filet Oscar w/ mashed red potatoes\, seasonal vegetables\, bearnaise sauce\n-Burrata Ravioli w/ crab\, lobster\, sauce americaine\n-Oven Roasted Quail w/ wild rice\, root vegetable hash\, pomegranate glaze\n-Vegetable Cassoulet w/ house sourdough bread \nChoice of Dessert\n-Chocolate Trifle\n-White Chocolate Raspberry Cheesecake w/ fresh whipped cream\n-Lemon Berry Tart
URL:https://slowfoodsolano.org/event/valentines-day-dinner-concert-with-food-familia/
LOCATION:The Barn & Pantry\, 125 W. A Street\, Dixon\, CA\, 95620\, United States
ATTACH;FMTTYPE=image/png:https://slowfoodsolano.org/wp-content/uploads/2020/01/vday.png
END:VEVENT
BEGIN:VEVENT
DTSTART;TZID=America/Los_Angeles:20191207T100000
DTEND;TZID=America/Los_Angeles:20191207T130000
DTSTAMP:20260423T122620
CREATED:20191119T140734Z
LAST-MODIFIED:20191119T140745Z
UID:772-1575712800-1575723600@slowfoodsolano.org
SUMMARY:Adults Only Gingerbread Making Workshop
DESCRIPTION:We had so much fun with two full sessions of adults only gingerbread making last year\, we just have to do it again! We will provide everything you need to have a fun\, creative evening out with your friends! Wine and other drink specials by the glass or by the bottle\, or BYOB for $5 corkage (regularly $15).
URL:https://slowfoodsolano.org/event/adults-only-gingerbread-making-workshop/
LOCATION:The Barn & Pantry\, 125 W. A Street\, Dixon\, CA\, 95620\, United States
ATTACH;FMTTYPE=image/jpeg:https://slowfoodsolano.org/wp-content/uploads/2019/11/gingerbread_tgZv.jpg
END:VEVENT
BEGIN:VEVENT
DTSTART;TZID=America/Los_Angeles:20191126T190000
DTEND;TZID=America/Los_Angeles:20191126T203000
DTSTAMP:20260423T122620
CREATED:20191119T135338Z
LAST-MODIFIED:20191126T223921Z
UID:769-1574794800-1574800200@slowfoodsolano.org
SUMMARY:Open Mic Night at Barn & Pantry
DESCRIPTION:Bring your talents down to The Barn and Pantry every Tuesday for our hosted open mic night. Whether it’s a song\, poem\, comedic set\, or musical talent- we want to hear you. Don’t have a talent to showcase? Come support those who do.\nSignups begin at 6:30pm\, show runs from 7-8:30PM weekly\nSmall plates style food will be available for purchase hosted by Eatfoodfamilia every week!
URL:https://slowfoodsolano.org/event/open-mic-night-at-barn-pantry/
LOCATION:The Barn & Pantry\, 125 W. A Street\, Dixon\, CA\, 95620\, United States
ATTACH;FMTTYPE=image/jpeg:https://slowfoodsolano.org/wp-content/uploads/2019/11/openmicnight-bP-scaled.jpg
END:VEVENT
BEGIN:VEVENT
DTSTART;TZID=America/Los_Angeles:20191123T010000
DTEND;TZID=America/Los_Angeles:20191123T090000
DTSTAMP:20260423T122620
CREATED:20191119T131825Z
LAST-MODIFIED:20191119T132152Z
UID:759-1574470800-1574499600@slowfoodsolano.org
SUMMARY:Shop Dixon Holiday Fair
DESCRIPTION:Join the local Dixon scene at Barn & Pantry to discover local delights for the holidays.
URL:https://slowfoodsolano.org/event/shop-dixon-holiday-fair/
LOCATION:The Barn & Pantry\, 125 W. A Street\, Dixon\, CA\, 95620\, United States
ATTACH;FMTTYPE=image/png:https://slowfoodsolano.org/wp-content/uploads/2019/11/Shop-Dixon_ivPM.png
END:VEVENT
BEGIN:VEVENT
DTSTART;TZID=America/Los_Angeles:20190916T103000
DTEND;TZID=America/Los_Angeles:20190916T113000
DTSTAMP:20260423T122620
CREATED:20190906T025437Z
LAST-MODIFIED:20190906T025437Z
UID:736-1568629800-1568633400@slowfoodsolano.org
SUMMARY:Hummus Making at Barn & Pantry
DESCRIPTION:Learn to make your own local\, delicious hummus at the Barn & Pantry. They will show you how to go from dried Rancho Gordo chickpeas all the way to a delightful snack in just 30 mins! Then you can make a batch to take home for yourself
URL:https://slowfoodsolano.org/event/hummus-making-at-barn-pantry/
LOCATION:The Barn & Pantry\, 125 W. A Street\, Dixon\, CA\, 95620\, United States
ATTACH;FMTTYPE=image/jpeg:https://slowfoodsolano.org/wp-content/uploads/2019/09/hummus-shutterstock_248472799.jpg
END:VEVENT
BEGIN:VEVENT
DTSTART;TZID=America/Los_Angeles:20260423T122620
DTEND;TZID=America/Los_Angeles:20260423T122620
DTSTAMP:20260423T122620
CREATED:20200130T010633Z
LAST-MODIFIED:20200130T010633Z
UID:854-0-0@slowfoodsolano.org
SUMMARY:Valentine's Day Farm to Table Dinner & Concert
DESCRIPTION:Join the Barn & Pantry for their first exclusive farm to table Valentine’s Day dinner with Matt Andrews of Food +Familia. Choose your appetizer\, entree and dessert and enjoy a fabulous evening complete with music by Misner & Smith. Very limited tickets available\, will sell out. Water\, Tea and Brewed coffee included\, specialty drinks including cocktails\, beer and wine will be available for purchase.
URL:https://slowfoodsolano.org/event/valentines-day-farm-to-table-dinner-concert/
LOCATION:The Barn & Pantry\, 125 W. A Street\, Dixon\, CA\, 95620\, United States
ATTACH;FMTTYPE=image/png:https://slowfoodsolano.org/wp-content/uploads/2020/01/vday.png
END:VEVENT
END:VCALENDAR