BEGIN:VCALENDAR
VERSION:2.0
PRODID:-//Slow Food Solano - ECPv6.15.20//NONSGML v1.0//EN
CALSCALE:GREGORIAN
METHOD:PUBLISH
X-ORIGINAL-URL:https://slowfoodsolano.org
X-WR-CALDESC:Events for Slow Food Solano
REFRESH-INTERVAL;VALUE=DURATION:PT1H
X-Robots-Tag:noindex
X-PUBLISHED-TTL:PT1H
BEGIN:VTIMEZONE
TZID:America/Los_Angeles
BEGIN:DAYLIGHT
TZOFFSETFROM:-0800
TZOFFSETTO:-0700
TZNAME:PDT
DTSTART:20180311T100000
END:DAYLIGHT
BEGIN:STANDARD
TZOFFSETFROM:-0700
TZOFFSETTO:-0800
TZNAME:PST
DTSTART:20181104T090000
END:STANDARD
BEGIN:DAYLIGHT
TZOFFSETFROM:-0800
TZOFFSETTO:-0700
TZNAME:PDT
DTSTART:20190310T100000
END:DAYLIGHT
BEGIN:STANDARD
TZOFFSETFROM:-0700
TZOFFSETTO:-0800
TZNAME:PST
DTSTART:20191103T090000
END:STANDARD
BEGIN:DAYLIGHT
TZOFFSETFROM:-0800
TZOFFSETTO:-0700
TZNAME:PDT
DTSTART:20200308T100000
END:DAYLIGHT
BEGIN:STANDARD
TZOFFSETFROM:-0700
TZOFFSETTO:-0800
TZNAME:PST
DTSTART:20201101T090000
END:STANDARD
END:VTIMEZONE
BEGIN:VEVENT
DTSTART;TZID=America/Los_Angeles:20190626T113000
DTEND;TZID=America/Los_Angeles:20190626T133000
DTSTAMP:20260423T162543
CREATED:20190624T080936Z
LAST-MODIFIED:20190624T080936Z
UID:725-1561548600-1561555800@slowfoodsolano.org
SUMMARY:Dawson's Farm to Table Food & Wine Pairing Dinner
DESCRIPTION:Join us for the first monthly “Growing Our Community” dinner on June 26th at 6:30PM. This exciting dinner experience will showcase local produce grown at Eatwell Farm in Dixon and grassfed meat and dairy available at The Barn &amp; Pantry.\nDinner is $45\, plus $25 for wine pairings for each of the four courses.Menu:\nTempura Squash Blossoms\nfromage blanc\, goat milk feta cheese\, citrus gremolata\nTurkovich Viognier 2018 \nStone Fruit Salad\nradicchio castelfranco\, pickled radish\,\ngouda cheese\, wild berry vinaigrette\nTurkovich 2016 Graciano \nBeef or Mushroom Wellington\nStemple Creek Farm beef\, buttery smash potato\,\nbraised carrots\, horseradish cream sauce\nvegetarian option – portobello\nTurkovich Cabernet Sauvignon 2016 \nLorraine’s Citrus Almond Cake\nrose geranium whipped cream\, naturally gluten free\nTurkovich Sparkling Rosé Limited \nVery limited seating available\, this will sell out. The restaurant will be closed to non-ticketed service for this event. \n\nView less
URL:https://slowfoodsolano.org/event/dawsons-farm-to-table-food-wine-pairing-dinner/
LOCATION:Dawson’s Bar & Grill\, Dixon\, 105 N 1st St\, Dixon\, CA 95620\, Dixon\, ca\, 95620
ATTACH;FMTTYPE=image/png:https://slowfoodsolano.org/wp-content/uploads/2019/06/dAWSONS.png
END:VEVENT
END:VCALENDAR