BEGIN:VCALENDAR
VERSION:2.0
PRODID:-//Slow Food Solano - ECPv6.15.20//NONSGML v1.0//EN
CALSCALE:GREGORIAN
METHOD:PUBLISH
X-ORIGINAL-URL:https://slowfoodsolano.org
X-WR-CALDESC:Events for Slow Food Solano
REFRESH-INTERVAL;VALUE=DURATION:PT1H
X-Robots-Tag:noindex
X-PUBLISHED-TTL:PT1H
BEGIN:VTIMEZONE
TZID:America/Los_Angeles
BEGIN:DAYLIGHT
TZOFFSETFROM:-0800
TZOFFSETTO:-0700
TZNAME:PDT
DTSTART:20200308T100000
END:DAYLIGHT
BEGIN:STANDARD
TZOFFSETFROM:-0700
TZOFFSETTO:-0800
TZNAME:PST
DTSTART:20201101T090000
END:STANDARD
BEGIN:DAYLIGHT
TZOFFSETFROM:-0800
TZOFFSETTO:-0700
TZNAME:PDT
DTSTART:20210314T100000
END:DAYLIGHT
BEGIN:STANDARD
TZOFFSETFROM:-0700
TZOFFSETTO:-0800
TZNAME:PST
DTSTART:20211107T090000
END:STANDARD
BEGIN:DAYLIGHT
TZOFFSETFROM:-0800
TZOFFSETTO:-0700
TZNAME:PDT
DTSTART:20220313T100000
END:DAYLIGHT
BEGIN:STANDARD
TZOFFSETFROM:-0700
TZOFFSETTO:-0800
TZNAME:PST
DTSTART:20221106T090000
END:STANDARD
END:VTIMEZONE
BEGIN:VEVENT
DTSTART;TZID=America/Los_Angeles:20211023T170000
DTEND;TZID=America/Los_Angeles:20211023T190000
DTSTAMP:20260423T122753
CREATED:20211011T024420Z
LAST-MODIFIED:20211011T193924Z
UID:892-1635008400-1635015600@slowfoodsolano.org
SUMMARY:Slow Food Gathering at Ruhstaller's The Farm
DESCRIPTION:Dear Friends of Slow Food Solano\, \nAfter a long hibernation because of Covid we are trying to find our way back to conviviality again within the constraints of these times. With that as our goal\, we are planning a first get-together on Saturday\, October 23\, from 5:30-7:00 at Ruhstaller’s The Farm at 6686 Sievers Road\, Dixon https://ruhstallerfarm.com/farm/ \n\n\nIt will be the first of what we hope to be monthly gatherings at farms\, breweries\, wineries\, and restaurants in Solano County that embody Slow Food sensibilities that we can enjoy together and promote on our Facebook page and website to others. At this first get-together\, besides just enjoying each other’s company\,  we hope to discuss these future plans\, what we are doing for our school garden program\, and how best we can promote the agricultural bounty of Solano County.\n\nWe look forward to seeing as many of you who are able to join us. The Ruhstaller Farm is a perfect first venue for our group with excellent beer\, a food truck\, soft serve ice cream and other soft drinks in a beautiful\, rustic open air setting. Follow the link above for more details.  Please rsvp to begells@aol.com if you want to join us or if you have any questions.\n\n\nHope to see you there!\nRuth Begell\, Sannie Osborn
URL:https://slowfoodsolano.org/event/slow-food-gathering-at-ruhstallers-the-farm/
LOCATION:Ruhstaller’s The Farm\, 6686 Sievers Road\, Dixon\, CA\, United States
ATTACH;FMTTYPE=image/jpeg:https://slowfoodsolano.org/wp-content/uploads/2021/10/image1.jpeg
END:VEVENT
END:VCALENDAR