BEGIN:VCALENDAR
VERSION:2.0
PRODID:-//Slow Food Solano - ECPv6.15.20//NONSGML v1.0//EN
CALSCALE:GREGORIAN
METHOD:PUBLISH
X-ORIGINAL-URL:https://slowfoodsolano.org
X-WR-CALDESC:Events for Slow Food Solano
REFRESH-INTERVAL;VALUE=DURATION:PT1H
X-Robots-Tag:noindex
X-PUBLISHED-TTL:PT1H
BEGIN:VTIMEZONE
TZID:America/Los_Angeles
BEGIN:DAYLIGHT
TZOFFSETFROM:-0800
TZOFFSETTO:-0700
TZNAME:PDT
DTSTART:20170312T100000
END:DAYLIGHT
BEGIN:STANDARD
TZOFFSETFROM:-0700
TZOFFSETTO:-0800
TZNAME:PST
DTSTART:20171105T090000
END:STANDARD
BEGIN:DAYLIGHT
TZOFFSETFROM:-0800
TZOFFSETTO:-0700
TZNAME:PDT
DTSTART:20180311T100000
END:DAYLIGHT
BEGIN:STANDARD
TZOFFSETFROM:-0700
TZOFFSETTO:-0800
TZNAME:PST
DTSTART:20181104T090000
END:STANDARD
BEGIN:DAYLIGHT
TZOFFSETFROM:-0800
TZOFFSETTO:-0700
TZNAME:PDT
DTSTART:20190310T100000
END:DAYLIGHT
BEGIN:STANDARD
TZOFFSETFROM:-0700
TZOFFSETTO:-0800
TZNAME:PST
DTSTART:20191103T090000
END:STANDARD
END:VTIMEZONE
BEGIN:VEVENT
DTSTART;TZID=America/Los_Angeles:20181215T010000
DTEND;TZID=America/Los_Angeles:20181215T070000
DTSTAMP:20260423T181934
CREATED:20181211T035559Z
LAST-MODIFIED:20181211T035559Z
UID:597-1544835600-1544857200@slowfoodsolano.org
SUMMARY:Sweet Pea's Nursery Winter Wonderland Craft Fair
DESCRIPTION:Celebrate the season at the third annual Winter Wonderland at Sweet Pea’s Boutique. The holiday fair will feature 80 local artisans\, craftspeople and small businesses. Fresh-cut Christmas trees and wreaths will be available to purchase as well.
URL:https://slowfoodsolano.org/event/sweet-peas-nursery-winter-wonderland-craft-fair/
LOCATION:Sweet Pea’s Nursery\, 891 Alamo Drive\, Vacaville\, CA\, United States
ATTACH;FMTTYPE=image/jpeg:https://slowfoodsolano.org/wp-content/uploads/2018/11/wreath-fresh.jpg
END:VEVENT
END:VCALENDAR